BEGIN:VCALENDAR
VERSION:2.0
PRODID:-//GAI Academic Network - ECPv6.15.20//NONSGML v1.0//EN
CALSCALE:GREGORIAN
METHOD:PUBLISH
X-WR-CALNAME:GAI Academic Network
X-ORIGINAL-URL:https://academicnetwork.gai-edu.eu
X-WR-CALDESC:Events for GAI Academic Network
REFRESH-INTERVAL;VALUE=DURATION:PT1H
X-Robots-Tag:noindex
X-PUBLISHED-TTL:PT1H
BEGIN:VTIMEZONE
TZID:UTC
BEGIN:STANDARD
TZOFFSETFROM:+0000
TZOFFSETTO:+0000
TZNAME:UTC
DTSTART:20210101T000000
END:STANDARD
END:VTIMEZONE
BEGIN:VEVENT
DTSTART;TZID=UTC:20220202T080000
DTEND;TZID=UTC:20220203T170000
DTSTAMP:20260422T224325
CREATED:20210710T151106Z
LAST-MODIFIED:20210710T151106Z
UID:8275-1643788800-1643907600@academicnetwork.gai-edu.eu
SUMMARY:1120th International Conference on Food Microbiology and Food Safety (ICFMFS)
DESCRIPTION:The idea of the conference is for the scientists\, scholars\, engineers\, and students from Universities all around the world and the industry to present ongoing research activities\, and hence to foster research relations between the Universities and the industry. This conference provides opportunities for the delegates to exchange new ideas and application experiences face to face\, to establish business or research relations\, and to find global partners for future collaboration.
URL:https://academicnetwork.gai-edu.eu/conference-event/1120th-international-conference-on-food-microbiology-and-food-safety-icfmfs/
LOCATION:Berlin\, Germany\, Berlin\, Germany
CATEGORIES:Conferences & Events
ATTACH;FMTTYPE=image/jpeg:https://academicnetwork.gai-edu.eu/wp-content/uploads/2021/07/pexels-photo-1114892.jpeg
END:VEVENT
BEGIN:VEVENT
DTSTART;TZID=UTC:20220203T080000
DTEND;TZID=UTC:20220204T170000
DTSTAMP:20260422T224325
CREATED:20210710T151202Z
LAST-MODIFIED:20210710T151202Z
UID:8278-1643875200-1643994000@academicnetwork.gai-edu.eu
SUMMARY:1078th International Conference on Human Rights (ICHR)
DESCRIPTION:ICHR is to bring together innovative academics and industrial experts in the field of Human Rights to a common forum. All the registered papers will be published by the World Research Library and will be submitted for review for indexing by Google Scholar etc.
URL:https://academicnetwork.gai-edu.eu/conference-event/1078th-international-conference-on-human-rights-ichr/
LOCATION:Hamburg\, Germany
CATEGORIES:Conferences & Events
ATTACH;FMTTYPE=image/jpeg:https://academicnetwork.gai-edu.eu/wp-content/uploads/2021/05/pexels-photo-3760371.jpeg
END:VEVENT
BEGIN:VEVENT
DTSTART;TZID=UTC:20220203T080000
DTEND;TZID=UTC:20220204T170000
DTSTAMP:20260422T224325
CREATED:20210710T151327Z
LAST-MODIFIED:20230629T095554Z
UID:8280-1643875200-1643994000@academicnetwork.gai-edu.eu
SUMMARY:1041st International Conference on Green Energy and Technology (ICGET)
DESCRIPTION:ICGET is being organized by Researchfora. The aim of the conference is to provide the platform for Students\, Researchers\, and Academicians to share their knowledge and ideas in the recent trends in the field of Green Energy and Technology. ICGET will provide an excellent international forum for sharing knowledge and a result in Green Energy and Technology. The aim of the Conference is to provide a platform for researchers and practitioners from both academia as well as industry to meet the share cutting-edge development in the field.
URL:https://academicnetwork.gai-edu.eu/conference-event/1041st-international-conference-on-green-energy-and-technology-icget/
LOCATION:Munich\, Germany
CATEGORIES:Conferences & Events
ATTACH;FMTTYPE=image/jpeg:https://academicnetwork.gai-edu.eu/wp-content/uploads/2021/05/pexels-photo-5905455.jpeg
END:VEVENT
END:VCALENDAR