BEGIN:VCALENDAR
VERSION:2.0
PRODID:-//GAI Academic Network - ECPv6.15.20//NONSGML v1.0//EN
CALSCALE:GREGORIAN
METHOD:PUBLISH
X-WR-CALNAME:GAI Academic Network
X-ORIGINAL-URL:https://academicnetwork.gai-edu.eu
X-WR-CALDESC:Events for GAI Academic Network
REFRESH-INTERVAL;VALUE=DURATION:PT1H
X-Robots-Tag:noindex
X-PUBLISHED-TTL:PT1H
BEGIN:VTIMEZONE
TZID:UTC
BEGIN:STANDARD
TZOFFSETFROM:+0000
TZOFFSETTO:+0000
TZNAME:UTC
DTSTART:20200101T000000
END:STANDARD
END:VTIMEZONE
BEGIN:VEVENT
DTSTART;TZID=UTC:20211103T080000
DTEND;TZID=UTC:20211104T170000
DTSTAMP:20260423T031928
CREATED:20210710T150241Z
LAST-MODIFIED:20210710T150241Z
UID:8259-1635926400-1636045200@academicnetwork.gai-edu.eu
SUMMARY:1111th International Conference on Tourism\, Transport\, and Logistics (ICTTL)
DESCRIPTION:The idea of the conference is for the scientists\, scholars\, engineers and students from the Universities all around the world and the industry to present ongoing research activities\, and hence to foster research relations between the Universities and the industry. This conference provides opportunities for the delegates to exchange new ideas and application experiences face to face\, to establish business or research relations and to find global partners for future collaboration.
URL:https://academicnetwork.gai-edu.eu/conference-event/1111th-international-conference-on-tourism-transport-and-logistics-icttl/
LOCATION:Munich\, Germany
CATEGORIES:Conferences & Events
ATTACH;FMTTYPE=image/jpeg:https://academicnetwork.gai-edu.eu/wp-content/uploads/2021/05/pexels-photo-2774556.jpeg
END:VEVENT
BEGIN:VEVENT
DTSTART;TZID=UTC:20211104T080000
DTEND;TZID=UTC:20211104T170000
DTSTAMP:20260423T031928
CREATED:20210710T150338Z
LAST-MODIFIED:20210710T150338Z
UID:8261-1636012800-1636045200@academicnetwork.gai-edu.eu
SUMMARY:International Conference on Language\, Innovation\, Culture\, and Education (ICLICE)
DESCRIPTION:The key intention of ICLICE is to provide opportunity for the global participants to share their ideas and experience in person with their peers expected to join from different parts on the world. In addition this gathering will help the delegates to establish research or business relations as well as to find international linkage for future collaborations in their career path. We hope that ICLICE outcome will lead to significant contributions to the knowledge base in these up-to-date scientific fields in scope.
URL:https://academicnetwork.gai-edu.eu/conference-event/international-conference-on-language-innovation-culture-and-education-iclice/
LOCATION:Berlin\, Germany\, Berlin\, Germany
CATEGORIES:Conferences & Events
ATTACH;FMTTYPE=image/jpeg:https://academicnetwork.gai-edu.eu/wp-content/uploads/2021/07/pexels-photo-4213372.jpeg
END:VEVENT
END:VCALENDAR