BEGIN:VCALENDAR
VERSION:2.0
PRODID:-//GAI Academic Network - ECPv6.15.20//NONSGML v1.0//EN
CALSCALE:GREGORIAN
METHOD:PUBLISH
X-ORIGINAL-URL:https://academicnetwork.gai-edu.eu
X-WR-CALDESC:Events for GAI Academic Network
REFRESH-INTERVAL;VALUE=DURATION:PT1H
X-Robots-Tag:noindex
X-PUBLISHED-TTL:PT1H
BEGIN:VTIMEZONE
TZID:UTC
BEGIN:STANDARD
TZOFFSETFROM:+0000
TZOFFSETTO:+0000
TZNAME:UTC
DTSTART:20200101T000000
END:STANDARD
END:VTIMEZONE
BEGIN:VEVENT
DTSTART;TZID=UTC:20211003T080000
DTEND;TZID=UTC:20211004T170000
DTSTAMP:20260423T044935
CREATED:20210710T145821Z
LAST-MODIFIED:20210710T145821Z
UID:8250-1633248000-1633366800@academicnetwork.gai-edu.eu
SUMMARY:1148th International Conference on Management and Information Technology (ICMIT)
DESCRIPTION:The Academics World International Conference on Management and Information Technology ICMIT aims to bring together leading academic scientists\, researchers and research scholars to exchange and share their experiences and research results about all aspects of Management and Information Technology. It also provides the premier interdisciplinary forum for researchers\, practitioners and educators to present and discuss the most recent innovations\, trends\, and concerns\, practical challenges encountered and the solutions adopted in the fields of Management and Information Technology.
URL:https://academicnetwork.gai-edu.eu/conference-event/1148th-international-conference-on-management-and-information-technology-icmit/
LOCATION:Munich\, Germany
CATEGORIES:Conferences & Events
ATTACH;FMTTYPE=image/jpeg:https://academicnetwork.gai-edu.eu/wp-content/uploads/2021/05/hands-people-woman-meeting.jpg
END:VEVENT
BEGIN:VEVENT
DTSTART;TZID=UTC:20211003T080000
DTEND;TZID=UTC:20211004T170000
DTSTAMP:20260423T044935
CREATED:20210710T145909Z
LAST-MODIFIED:20210710T145909Z
UID:8252-1633248000-1633366800@academicnetwork.gai-edu.eu
SUMMARY:542nd International Conference on Medical\, Pharmaceutical and Health Sciences (ICMPH)
DESCRIPTION:ICMPH is being organized by Global Society for Research and Development GSRD. The aim of the conference is to provide the platform for Students\, Engineers\, Researchers and Scientists to share the knowledge and ideas in the recent trends in the field of Medical\, Pharmaceutical and Health Sciences.
URL:https://academicnetwork.gai-edu.eu/conference-event/542nd-international-conference-on-medical-pharmaceutical-and-health-sciences-icmph/
LOCATION:Berlin\, Germany\, Berlin\, Germany
CATEGORIES:Conferences & Events
ATTACH;FMTTYPE=image/jpeg:https://academicnetwork.gai-edu.eu/wp-content/uploads/2021/05/pexels-photo-3760371.jpeg
END:VEVENT
BEGIN:VEVENT
DTSTART;TZID=UTC:20211004T080000
DTEND;TZID=UTC:20211005T170000
DTSTAMP:20260423T044935
CREATED:20210710T150004Z
LAST-MODIFIED:20210710T151354Z
UID:8254-1633334400-1633453200@academicnetwork.gai-edu.eu
SUMMARY:1003rd International Conference on Sports Nutrition and Supplements (ICSNS)
DESCRIPTION:ICSNS is to bring together innovative academics and industrial experts in the field of Sports Nutrition and Supplements to a common forum. All the registered papers will be published by the World Research Library and will be submitted for review for indexing by Google Scholar etc.
URL:https://academicnetwork.gai-edu.eu/conference-event/1003rd-international-conference-on-sports-nutrition-and-supplements-icsns/
LOCATION:Hamburg\, Germany
CATEGORIES:Conferences & Events
ATTACH;FMTTYPE=image/jpeg:https://academicnetwork.gai-edu.eu/wp-content/uploads/2021/05/pexels-photo-6476783.jpeg
END:VEVENT
BEGIN:VEVENT
DTSTART;TZID=UTC:20211004T080000
DTEND;TZID=UTC:20211005T170000
DTSTAMP:20260423T044935
CREATED:20210710T150115Z
LAST-MODIFIED:20210710T150115Z
UID:8257-1633334400-1633453200@academicnetwork.gai-edu.eu
SUMMARY:International Conference on Basic and Applied Sciences (ICBAS)
DESCRIPTION:The key intention of ICBAS is to provide opportunity for the global participants to share their ideas and experience in person with their peers expected to join from different parts on the world. In addition\, this gathering will help the delegates to establish research or business relations as well as to find international linkage for future collaborations in their career path. We hope that ICBAS outcome will lead to significant contributions to the knowledge base in these up-to-date scientific fields in scope.
URL:https://academicnetwork.gai-edu.eu/conference-event/international-conference-on-basic-and-applied-sciences-icbas/
LOCATION:Berlin\, Germany\, Berlin\, Germany
CATEGORIES:Conferences & Events
ATTACH;FMTTYPE=image/jpeg:https://academicnetwork.gai-edu.eu/wp-content/uploads/2021/07/pexels-photo-1114892.jpeg
END:VEVENT
END:VCALENDAR