BEGIN:VCALENDAR
VERSION:2.0
PRODID:-//GAI Academic Network - ECPv6.15.20//NONSGML v1.0//EN
CALSCALE:GREGORIAN
METHOD:PUBLISH
X-WR-CALNAME:GAI Academic Network
X-ORIGINAL-URL:https://academicnetwork.gai-edu.eu
X-WR-CALDESC:Events for GAI Academic Network
REFRESH-INTERVAL;VALUE=DURATION:PT1H
X-Robots-Tag:noindex
X-PUBLISHED-TTL:PT1H
BEGIN:VTIMEZONE
TZID:UTC
BEGIN:STANDARD
TZOFFSETFROM:+0000
TZOFFSETTO:+0000
TZNAME:UTC
DTSTART:20220101T000000
END:STANDARD
END:VTIMEZONE
BEGIN:VEVENT
DTSTART;TZID=UTC:20230705T080000
DTEND;TZID=UTC:20230706T170000
DTSTAMP:20260419T211951
CREATED:20230629T094456Z
LAST-MODIFIED:20230629T095606Z
UID:8729-1688544000-1688662800@academicnetwork.gai-edu.eu
SUMMARY:HomeDiagnostiX Congress 2023
DESCRIPTION:Smart health and diagnostics is a rapidly growing field revolutionizing healthcare. It integrates cutting-edge diagnostic tools and remote care for efficient and accessible healthcare. This event offers insights and partnerships for all stakeholders\, with a focus on legal and ethical considerations. The intelligent use of technology is essential for daily care\, leading to caregiver relief and self-determination in old age.
URL:https://academicnetwork.gai-edu.eu/conference-event/homediagnostix-congress-2023/
LOCATION:Frankfurt\, Germany\, Frankfurt\, Germany
ATTACH;FMTTYPE=image/jpeg:https://academicnetwork.gai-edu.eu/wp-content/uploads/2021/05/pexels-photo-5905455.jpeg
END:VEVENT
BEGIN:VEVENT
DTSTART;TZID=UTC:20230705T080000
DTEND;TZID=UTC:20230706T170000
DTSTAMP:20260419T211951
CREATED:20230629T095501Z
LAST-MODIFIED:20230629T095517Z
UID:8731-1688544000-1688662800@academicnetwork.gai-edu.eu
SUMMARY:Dritev Conference 2023
DESCRIPTION:
URL:https://academicnetwork.gai-edu.eu/conference-event/dritev-conference-2023/
LOCATION:Berlin\, Germany\, Berlin\, Germany
ATTACH;FMTTYPE=image/jpeg:https://academicnetwork.gai-edu.eu/wp-content/uploads/2021/05/pexels-photo-639172.jpeg
END:VEVENT
BEGIN:VEVENT
DTSTART;TZID=UTC:20230705T080000
DTEND;TZID=UTC:20230706T170000
DTSTAMP:20260419T211951
CREATED:20230629T095649Z
LAST-MODIFIED:20230629T095649Z
UID:8733-1688544000-1688662800@academicnetwork.gai-edu.eu
SUMMARY:Vocatium Rostock 2023
DESCRIPTION:
URL:https://academicnetwork.gai-edu.eu/conference-event/vocatium-rostock-2023/
LOCATION:Frankfurt\, Germany\, Frankfurt\, Germany
ATTACH;FMTTYPE=image/jpeg:https://academicnetwork.gai-edu.eu/wp-content/uploads/2021/05/pexels-photo-3760371.jpeg
END:VEVENT
END:VCALENDAR