BEGIN:VCALENDAR
VERSION:2.0
PRODID:-//GAI Academic Network - ECPv6.15.20//NONSGML v1.0//EN
CALSCALE:GREGORIAN
METHOD:PUBLISH
X-ORIGINAL-URL:https://academicnetwork.gai-edu.eu
X-WR-CALDESC:Events for GAI Academic Network
REFRESH-INTERVAL;VALUE=DURATION:PT1H
X-Robots-Tag:noindex
X-PUBLISHED-TTL:PT1H
BEGIN:VTIMEZONE
TZID:UTC
BEGIN:STANDARD
TZOFFSETFROM:+0000
TZOFFSETTO:+0000
TZNAME:UTC
DTSTART:20200101T000000
END:STANDARD
END:VTIMEZONE
BEGIN:VEVENT
DTSTART;TZID=UTC:20211203T080000
DTEND;TZID=UTC:20211204T170000
DTSTAMP:20260423T031428
CREATED:20210710T150429Z
LAST-MODIFIED:20210710T150429Z
UID:8263-1638518400-1638637200@academicnetwork.gai-edu.eu
SUMMARY:1143rd International Conference on Psychology\, Language and Teaching (ICPLT)
DESCRIPTION:ICPLT is sponsored by the International Institute of Engineers and Researchers IIER. It aims to be one of the leading international conferences for presenting novel and fundamental advances in the fields of Psychology\, Language and Teaching. It also serves to foster communication among researchers and practitioners working in a wide variety of scientific areas with a common interest in improving Psychology\, Language and Teaching related techniques.
URL:https://academicnetwork.gai-edu.eu/conference-event/1143rd-international-conference-on-psychology-language-and-teaching-icplt/
LOCATION:Munich\, Germany
CATEGORIES:Conferences & Events
ATTACH;FMTTYPE=image/jpeg:https://academicnetwork.gai-edu.eu/wp-content/uploads/2021/05/pexels-photo-109629.jpeg
END:VEVENT
BEGIN:VEVENT
DTSTART;TZID=UTC:20211204T080000
DTEND;TZID=UTC:20211204T170000
DTSTAMP:20260423T031428
CREATED:20210710T150532Z
LAST-MODIFIED:20210710T150532Z
UID:8265-1638604800-1638637200@academicnetwork.gai-edu.eu
SUMMARY:International Conference on Recent Advances in Engineering and Technology (ICRAET)
DESCRIPTION:The key intention of ICRAET is to provide an opportunity for the global participants to share their ideas and experience in person with their peers expected to join from different parts on the world. In addition\, this gathering will help the delegates to establish research or business relations as well as to find international linkage for future collaborations in their career path. We hope that ICRAET outcome will lead to significant contributions to the knowledge base in these up-to-date scientific fields in scope.
URL:https://academicnetwork.gai-edu.eu/conference-event/international-conference-on-recent-advances-in-engineering-and-technology-icraet/
LOCATION:Berlin\, Germany\, Berlin\, Germany
CATEGORIES:Conferences & Events
ATTACH;FMTTYPE=image/jpeg:https://academicnetwork.gai-edu.eu/wp-content/uploads/2021/05/meeting-room-business-conference-691485.jpeg
END:VEVENT
BEGIN:VEVENT
DTSTART;TZID=UTC:20211204T080000
DTEND;TZID=UTC:20211205T170000
DTSTAMP:20260423T031428
CREATED:20210710T150624Z
LAST-MODIFIED:20210710T150624Z
UID:8267-1638604800-1638723600@academicnetwork.gai-edu.eu
SUMMARY:1040th International Conference on Multidisciplinary Research & Practice (ICMRP)
DESCRIPTION:ICMRP is to bring together innovative academics and industrial experts in the field of Multidisciplinary Research & Practice to a common forum. All the registered papers will be published by the World Research Library and will be submitted for review for indexing by Google Scholar etc.
URL:https://academicnetwork.gai-edu.eu/conference-event/1040th-international-conference-on-multidisciplinary-research-practice-icmrp/
LOCATION:Frankfurt\, Germany\, Frankfurt\, Germany
CATEGORIES:Conferences & Events
ATTACH;FMTTYPE=image/jpeg:https://academicnetwork.gai-edu.eu/wp-content/uploads/2021/05/pexels-photo-2608517.jpeg
END:VEVENT
END:VCALENDAR